Workbook

Sheet Application Form
B2: JOB APPLICATION FORM | K2: #VALUE!
B4: Position Applied For:
B5: Department/Project:
B6: Duty Station:
B7: How did you learn about this vacancy? | I7: Online Job Platform
B9: I. PERSONAL INFORMATION
B10: 1. Full Name
B11: Surname: | E11: WHITE
B12: Given Name(s): | E12: Snow
B13: 2. Gender
B14: Female
B15: 3. Nationality
B16: Rwandan
B17: 4. Contact Information
B18: Mobile Number: | E18: 0799 999 9999
B19: Email Address: | E19: applicant@email.com
B20: 5. Current Address
B21: Village: | E21: Village Name
B22: Cell: | E22: Cell Name
B23: Sector: | E23: Sector Name
B24: District/City: | E24: Kigali
B25: 6. Availability
B26: Earliest Available Start Date: | G26: 05.08.2026
B27: Current Notice Period: | G27: 2 weeks
B28: 7. Previous Employment with the Organisation
B29: Have you previously worked for Good Neighbors International? | H29: Yes
B30: Previous Position: | H30: Project Manager
B31: Department/Project: | H31: IGD
B32: Employment Period: | H32: From: | J32: DD.MM.YYYY | L32: To: | M32: DD. MM.YYYY
B33: II. LANGUAGE PROFICIENCY
B34: Language | F34: Writing | I34: Speaking | L34: Reading
B35: English | F35: Intermediate | I35: Advanced | L35: Advanced
B36: Kinyarwanda | F36: Native | I36: Advanced | L36: Intermediate
B37: French | F37: Advanced | I37: Advanced | L37: Basic
B38: Other: ___________________ | F38: Basic | I38: Native | L38: Advanced
B39: III. EDUCATION BACKGROUND
B40: Name of Institution | F40: Institution Type | H40: District/City | I40: Field of Study | K40: From | L40: To | M40: Qualification Obtained
B41: Rwanda University | F41: University | H41: Kigali | I41: Social Science | K41: YYYY | L41: YYYY | M41: Bachelor's Degree
B42: RU | F42: College | H42: Kigali | I42: Humanity | K42: YYYY | L42: YYYY | M42: Advanced Diploma
B43: Name | F43: Upper Secondary | H43: Huye | I43: Humanity | K43: YYYY | L43: YYYY | M43: Certificate of Completion
...

Sheet Summary
B2: No. | C2: ='Application Form'!B9 -> I. PERSONAL INFORMATION | T2: ='Application Form'!B33 -> II. LANGUAGE PROFICIENCY | AF2: ='Application Form'!B39 -> III. EDUCATION BACKGROUND | AM2: ='Application Form'!B44 -> IV. WORK EXPERIENCE | AW2: ='Application Form'!B53 -> V. TRAINING, CERTIFICATIONS AND PROFESSIONAL DEVELOPMENT | BC2: ='Application Form'!B60 -> VI. PROFESSIONAL QUALIFICATIONS, LICENCES AND MEMBERSHIPS | BG2: ='Application Form'!B67 -> VII. COMPUTER AND OTHER RELEVANT SKILLS | BO2: ='Application Form'!B80 -> VIII. PROFESSIONAL REFERENCES | BU2: ='Application Form'!B85 -> IX. DOCUMENTS ATTACHED
C3: ='Application Form'!B10 -> 1. Full Name | E3: ='Application Form'!B13 -> 2. Gender | F3: ='Application Form'!B15 -> 3. Nationality | G3: ='Application Form'!B17 -> 4. Contact Information | I3: ='Application Form'!B20 -> 5. Current Address | M3: ='Application Form'!B25 -> 6. Availability | O3: ='Application Form'!B28 -> 7. Previous Employment with the Organisation | T3: ='Application Form'!B35 -> English | W3: ='Application Form'!B36 -> Kinyarwanda | Z3: ='Application Form'!B37 -> French | AC3: ='Application Form'!B38 -> Other: ___________________ | AF3: ='Application Form'!B40 -> Name of Institution | AG3: ='Application Form'!F40 -> Institution Type | AH3: ='Application Form'!H40 -> District/City | AI3: ='Application Form'!I40 -> Field of Study | AJ3: ='Application Form'!K40 -> From | AK3: ='Application Form'!L40 -> To | AL3: ='Application Form'!M40 -> Qualification Obtained | AM3: ='Application Form'!B45 -> From | AO3: ='Application Form'!D45 -> To | AQ3: ='Application Form'!F45 -> No. of Months | AR3: ='Application Form'!B52 -> Total experience in months: | AS3: ='Application Form'!G45 -> Organisation | AT3: ='Application Form'!I45 -> Position | AU3: ='Application Form'!K45 -> Main Responsibilities | AV3: ='Application Form'!M45 -> Employment Type | AW3: ='Application Form'!B54 -> Name of Training or Activity | AX3: ='Application Form'!F54 -> Training Provider | AY3: ='Application Form'!I54 -> Location | AZ3: ='Application Form'!K54 -> Duration (days) | BA3: ='Application Form'!L54 -> Year Completed | BB3: ='Application Form'!M54 -> Certificate Obtained | BC3: ='Application Form'!B61 -> Qualification, License, Registration or Membership | BD3: ='Application Form'!I61 -> Issuing Organisation | BE3: ='Application Form'!L61 -> Year Obtained | BF3: ='Application Form'!M61 -> Expiry Date | BG3: ='Application Form'!B68 -> 1. Computer Proficiency | BL3: ='Application Form'!B75 -> 2. Additional Skills | BO3: ='Application Form'!C81 -> Full Name | BP3: ='Application Form'!F81 -> Organisation | BQ3: ='Application Form'!H81 -> Position | BR3: ='Application Form'!I81 -> Professional Relationship | BS3: ='Application Form'!K81 -> Email Address | BT3: ='Application Form'!M81 -> Telephone Number | BU3: ='Application Form'!B86 -> GNI Job Application Form: | BV3: ='Application Form'!B87 -> CV: | BW3: ='Application Form'!B88 -> Cover Letter: | BX3: ='Application Form'!B89 -> Academic Certificates: | BY3: ='Application Form'!B90 -> Professional Certificates or Licenses: | BZ3: ='Application Form'!B91 -> Portfolio or Work Samples: | CA3: ='Application Form'!B92 -> Other: _____________________
C4: ='Application Form'!B11 -> Surname: | D4: ='Application Form'!B12 -> Given Name(s): | G4: ='Application Form'!B18 -> Mobile Number: | H4: ='Application Form'!B19 -> Email Address: | I4: ='Application Form'!B21 -> Village: | J4: ='Application Form'!B22 -> Cell: | K4: ='Application Form'!B23 -> Sector: | L4: ='Application Form'!B24 -> District/City: | M4: ='Application Form'!B26 -> Earliest Available Start Date: | N4: ='Application Form'!B27 -> Current Notice Period: | O4: GNI Work Experience: | P4: ='Application Form'!B30 -> Previous Position: | Q4: ='Application Form'!B31 -> Department/Project: | R4: ='Application Form'!B32 -> Employment Period: | T4: ='Application Form'!F34 -> Writing | U4: ='Application Form'!I34 -> Speaking | V4: ='Application Form'!L34 -> Reading | W4: ='Application Form'!F34 -> Writing | X4: ='Application Form'!I34 -> Speaking | Y4: ='Application Form'!L34 -> Reading | Z4: ='Application Form'!F34 -> Writing | AA4: ='Application Form'!I34 -> Speaking | AB4: ='Application Form'!L34 -> Reading | AC4: ='Application Form'!F34 -> Writing | AD4: ='Application Form'!I34 -> Speaking | AE4: ='Application Form'!L34 -> Reading | AM4: ='Application Form'!B46 -> Month | AN4: ='Application Form'!C46 -> Year | AO4: ='Application Form'!D46 -> Month | AP4: ='Application Form'!E46 -> Year | BG4: ='Application Form'!B70 -> Microsoft Word | BH4: ='Application Form'!B71 -> Microsoft Excel | BI4: ='Application Form'!B72 -> Microsoft PowerPoint | BJ4: ='Application Form'!B73 -> Email and Internet Applications | BK4: ='Application Form'!B74 -> Other: ___________________ | BL4: ='Application Form'!B77 -> InDesign | BM4: ='Application Form'!B78 -> Photoshop | BN4: ='Application Form'!B79 -> STATA
B5: 1 | C5: ='Application Form'!E11 -> WHITE | D5: ='Application Form'!E12 -> Snow | E5: ='Application Form'!B14 -> Female | F5: ='Application Form'!B16 -> Rwandan | G5: ='Application Form'!E18 -> 0799 999 9999 | H5: ='Application Form'!E19 -> applicant@email.com | I5: ='Application Form'!E21 -> Village Name | J5: ='Application Form'!E22 -> Cell Name | K5: ='Application Form'!E23 -> Sector Name | L5: ='Application Form'!E24 -> Kigali | M5: ='Application Form'!G26 -> 05.08.2026 | N5: ='Application Form'!G27 -> 2 weeks | O5: ='Application Form'!H29 -> Yes | P5: ='Application Form'!H30 -> Project Manager | Q5: ='Application Form'!H31 -> IGD | R5: ='Application Form'!J32 -> DD.MM.YYYY | S5: ='Application Form'!M32 -> DD. MM.YYYY | T5: ='Application Form'!F35 -> Intermediate | U5: ='Application Form'!I35 -> Advanced | V5: ='Application Form'!L35 -> Advanced | W5: ='Application Form'!F36 -> Native | X5: ='Application Form'!I36 -> Advanced | Y5: ='Application Form'!L36 -> Intermediate | Z5: ='Application Form'!F37 -> Advanced | AA5: ='Application Form'!I37 -> Advanced | AB5: ='Application Form'!L37 -> Basic | AC5: ='Application Form'!F38 -> Basic | AD5: ='Application Form'!I38 -> Native | AE5: ='Application Form'!L38 -> Advanced | AF5: ='Application Form'!B41 -> Rwanda University | AG5: ='Application Form'!F41 -> University | AH5: ='Application Form'!H41 -> Kigali | AI5: ='Application Form'!I41 -> Social Science | AJ5: ='Application Form'!K41 -> YYYY | AK5: ='Application Form'!L41 -> YYYY | AL5: ='Application Form'!M41 -> Bachelor's Degree | AM5: ='Application Form'!B47 -> 12 | AN5: ='Application Form'!C47 -> 2025 | AO5: ='Application Form'!D47 -> 5 | AP5: ='Application Form'!E47 -> 2026 | AQ5: ='Application Form'!F47 -> 6 | AR5: ='Application Form'!F52 -> 70 | AS5: ='Application Form'!G47 -> A | AT5: ='Application Form'!I47 -> Country Director | AU5: ='Application Form'!K47 -> ABC | AV5: ='Application Form'!M47 -> Full-time | AW5: ='Application Form'!B55 -> A | AX5: ='Application Form'!F55 -> AB | AY5: ='Application Form'!I55 -> Huye | AZ5: ='Application Form'!K55 -> 5 | BA5: ='Application Form'!L55 -> YYYY | BB5: ='Application Form'!M55 -> Yes | BC5: ='Application Form'!B62 -> Driving License | BD5: ='Application Form'!I62 -> National Police | BE5: ='Application Form'!L62 -> YYYY | BF5: ='Application Form'!M62 -> DD.MM.YYYY | BG5: ='Application Form'!I70 -> Beginner | BH5: ='Application Form'!I71 -> Intermediate | BI5: ='Application Form'!I72 -> Intermediate | BJ5: ='Application Form'!I73 -> Intermediate | BK5: ='Application Form'!I74 -> Advanced | BL5: ='Application Form'!I77 -> Intermediate | BM5: ='Application Form'!I78 -> Intermediate | BN5: ='Application Form'!I79 -> Advanced | BO5: ='Application Form'!C82 -> A | BP5: ='Application Form'!F82 -> Hope International | BQ5: ='Application Form'!H82 -> AD | BR5: ='Application Form'!I82 -> Current Supervisor | BS5: ='Application Form'!K82 -> 1@email.com | BT5: ='Application Form'!M82 -> 0777 777 777 | BU5: ='Application Form'!I86 -> No | BV5: ='Application Form'!I87 -> Yes | BW5: ='Application Form'!I88 -> Yes | BX5: ='Application Form'!I89 -> Yes | BY5: ='Application Form'!I90 -> Yes | BZ5: ='Application Form'!I91 -> No | CA5: ='Application Form'!I92 -> Yes
AF6: ='Application Form'!B42 -> RU | AG6: ='Application Form'!F42 -> College | AH6: ='Application Form'!H42 -> Kigali | AI6: ='Application Form'!I42 -> Humanity | AJ6: ='Application Form'!K42 -> YYYY | AK6: ='Application Form'!L42 -> YYYY | AL6: ='Application Form'!M42 -> Advanced Diploma | AM6: ='Application Form'!B48 -> 1 | AN6: ='Application Form'!C48 -> 2024 | AO6: ='Application Form'!D48 -> 12 | AP6: ='Application Form'!E48 -> 2024 | AQ6: ='Application Form'!F48 -> 12 | AS6: ='Application Form'!G48 -> B | AT6: ='Application Form'!I48 -> Managing Director | AU6: ='Application Form'!K48 -> ABC | AV6: ='Application Form'!M48 -> Full-time | AW6: ='Application Form'!B56 -> B | AX6: ='Application Form'!F56 -> AC | AY6: ='Application Form'!I56 -> Kigali | AZ6: ='Application Form'!K56 -> 3 | BA6: ='Application Form'!L56 -> YYYY | BB6: ='Application Form'!M56 -> Yes | BC6: ='Application Form'!B63 -> Legal License | BD6: ='Application Form'!I63 -> A | BE6: ='Application Form'!L63 -> YYYY | BF6: ='Application Form'!M63 -> DD.MM.YYYY | BO6: ='Application Form'!C83 -> B | BP6: ='Application Form'!F83 -> Save the Children | BQ6: ='Application Form'!H83 -> MD | BR6: ='Application Form'!I83 -> Former Supervisor | BS6: ='Application Form'!K83 -> 2@email.com | BT6: ='Application Form'!M83 -> 0788 888 888
AF7: ='Application Form'!B43 -> Name | AG7: ='Application Form'!F43 -> Upper Secondary | AH7: ='Application Form'!H43 -> Huye | AI7: ='Application Form'!I43 -> Humanity | AJ7: ='Application Form'!K43 -> YYYY | AK7: ='Application Form'!L43 -> YYYY | AL7: ='Application Form'!M43 -> Certificate of Completion | AM7: ='Application Form'!B49 -> 3 | AN7: ='Application Form'!C49 -> 2023 | AO7: ='Application Form'!D49 -> 7 | AP7: ='Application Form'!E49 -> 2023 | AQ7: ='Application Form'!F49 -> 5 | AS7: ='Application Form'!G49 -> C | AT7: ='Application Form'!I49 -> Programme Coordinator | AU7: ='Application Form'!K49 -> ABC | AV7: ='Application Form'!M49 -> Full-time | AW7: ='Application Form'!B57 -> C | AX7: ='Application Form'!F57 -> AD | AY7: ='Application Form'!I57 -> Paris | AZ7: ='Application Form'!K57 -> 2 | BA7: ='Application Form'!L57 -> YYYY | BB7: ='Application Form'!M57 -> Yes | BC7: ='Application Form'!B64 -> Accounting | BD7: ='Application Form'!I64 -> B | BE7: ='Application Form'!L64 -> YYYY | BF7: ='Application Form'!M64 -> DD.MM.YYYY | BO7: ='Application Form'!C84 -> C | BP7: ='Application Form'!F84 -> World Vision | BQ7: ='Application Form'!H84 -> CD | BR7: ='Application Form'!I84 -> Academic Referee | BS7: ='Application Form'!K84 -> 3@gmail.com | BT7: ='Application Form'!M84 -> 0766 666 666
AM8: ='Application Form'!B50 -> 2 | AN8: ='Application Form'!C50 -> 2020 | AO8: ='Application Form'!D50 -> 12 | AP8: ='Application Form'!E50 -> 2022 | AQ8: ='Application Form'!F50 -> 35 | AS8: ='Application Form'!G50 -> D | AT8: ='Application Form'!I50 -> Project Officer | AU8: ='Application Form'!K50 -> ABC | AV8: ='Application Form'!M50 -> Part-time | AW8: ='Application Form'!B58 -> D | AX8: ='Application Form'!F58 -> AE | AY8: ='Application Form'!I58 -> London | AZ8: ='Application Form'!K58 -> 6 | BA8: ='Application Form'!L58 -> YYYY | BB8: ='Application Form'!M58 -> No | BC8: ='Application Form'!B65 -> CPA | BD8: ='Application Form'!I65 -> C | BE8: ='Application Form'!L65 -> YYYY | BF8: ='Application Form'!M65 -> DD.MM.YYYY
AM9: ='Application Form'!B51 -> 1 | AN9: ='Application Form'!C51 -> 2019 | AO9: ='Application Form'!D51 -> 12 | AP9: ='Application Form'!E51 -> 2019 | AQ9: ='Application Form'!F51 -> 12 | AS9: ='Application Form'!G51 -> E | AT9: ='Application Form'!I51 -> Project Assistant | AU9: ='Application Form'!K51 -> ABC | AV9: ='Application Form'!M51 -> Intern | AW9: ='Application Form'!B59 -> E | AX9: ='Application Form'!F59 -> AF | AY9: ='Application Form'!I59 -> Huye | AZ9: ='Application Form'!K59 -> 1 | BA9: ='Application Form'!L59 -> YYYY | BB9: ='Application Form'!M59 -> Yes | BC9: ='Application Form'!B66 -> Civil Engineering | BD9: ='Application Form'!I66 -> D | BE9: ='Application Form'!L66 -> YYYY | BF9: ='Application Form'!M66 -> DD.MM.YYYY
